BEGIN:VCALENDAR
VERSION:2.0
PRODID:-//Rappelkiste Millingen e.V. - ECPv6.15.20//NONSGML v1.0//EN
CALSCALE:GREGORIAN
METHOD:PUBLISH
X-WR-CALNAME:Rappelkiste Millingen e.V.
X-ORIGINAL-URL:https://rappelkiste-millingen.de
X-WR-CALDESC:Veranstaltungen für Rappelkiste Millingen e.V.
REFRESH-INTERVAL;VALUE=DURATION:PT1H
X-Robots-Tag:noindex
X-PUBLISHED-TTL:PT1H
BEGIN:VTIMEZONE
TZID:Europe/Paris
BEGIN:DAYLIGHT
TZOFFSETFROM:+0100
TZOFFSETTO:+0200
TZNAME:CEST
DTSTART:20250330T010000
END:DAYLIGHT
BEGIN:STANDARD
TZOFFSETFROM:+0200
TZOFFSETTO:+0100
TZNAME:CET
DTSTART:20251026T010000
END:STANDARD
BEGIN:DAYLIGHT
TZOFFSETFROM:+0100
TZOFFSETTO:+0200
TZNAME:CEST
DTSTART:20260329T010000
END:DAYLIGHT
BEGIN:STANDARD
TZOFFSETFROM:+0200
TZOFFSETTO:+0100
TZNAME:CET
DTSTART:20261025T010000
END:STANDARD
BEGIN:DAYLIGHT
TZOFFSETFROM:+0100
TZOFFSETTO:+0200
TZNAME:CEST
DTSTART:20270328T010000
END:DAYLIGHT
BEGIN:STANDARD
TZOFFSETFROM:+0200
TZOFFSETTO:+0100
TZNAME:CET
DTSTART:20271031T010000
END:STANDARD
END:VTIMEZONE
BEGIN:VEVENT
DTSTART;TZID=Europe/Paris:20260613T100000
DTEND;TZID=Europe/Paris:20260613T130000
DTSTAMP:20260419T153411
CREATED:20251201T072940Z
LAST-MODIFIED:20251201T072941Z
UID:1185-1781344800-1781355600@rappelkiste-millingen.de
SUMMARY:Gemeinsamer Spielemorgen (1 – 3-Jährige und Eltern)
DESCRIPTION:
URL:https://rappelkiste-millingen.de/events/gemeinsamer-spielemorgen-1-3-jaehrige-und-eltern/
END:VEVENT
END:VCALENDAR