BEGIN:VCALENDAR
VERSION:2.0
PRODID:-//Rappelkiste Millingen e.V. - ECPv6.15.20//NONSGML v1.0//EN
CALSCALE:GREGORIAN
METHOD:PUBLISH
X-ORIGINAL-URL:https://rappelkiste-millingen.de
X-WR-CALDESC:Veranstaltungen für Rappelkiste Millingen e.V.
REFRESH-INTERVAL;VALUE=DURATION:PT1H
X-Robots-Tag:noindex
X-PUBLISHED-TTL:PT1H
BEGIN:VTIMEZONE
TZID:Europe/Paris
BEGIN:DAYLIGHT
TZOFFSETFROM:+0100
TZOFFSETTO:+0200
TZNAME:CEST
DTSTART:20240331T010000
END:DAYLIGHT
BEGIN:STANDARD
TZOFFSETFROM:+0200
TZOFFSETTO:+0100
TZNAME:CET
DTSTART:20241027T010000
END:STANDARD
BEGIN:DAYLIGHT
TZOFFSETFROM:+0100
TZOFFSETTO:+0200
TZNAME:CEST
DTSTART:20250330T010000
END:DAYLIGHT
BEGIN:STANDARD
TZOFFSETFROM:+0200
TZOFFSETTO:+0100
TZNAME:CET
DTSTART:20251026T010000
END:STANDARD
BEGIN:DAYLIGHT
TZOFFSETFROM:+0100
TZOFFSETTO:+0200
TZNAME:CEST
DTSTART:20260329T010000
END:DAYLIGHT
BEGIN:STANDARD
TZOFFSETFROM:+0200
TZOFFSETTO:+0100
TZNAME:CET
DTSTART:20261025T010000
END:STANDARD
END:VTIMEZONE
BEGIN:VEVENT
DTSTART;TZID=Europe/Paris:20251219T170000
DTEND;TZID=Europe/Paris:20251219T220000
DTSTAMP:20260421T153444
CREATED:20250912T205534Z
LAST-MODIFIED:20251201T104650Z
UID:575-1766163600-1766181600@rappelkiste-millingen.de
SUMMARY:Weihnachtsfeier
DESCRIPTION:Informationen folgen
URL:https://rappelkiste-millingen.de/events/weihnachtsfeier-auffuehrung-frohe-weihnachten-regenbogenfisch/
LOCATION:Kindergarten Rappelkiste\, Raiffeisenstraße 3\, Rees\, 46459\, Germany
ATTACH;FMTTYPE=image/jpeg:https://rappelkiste-millingen.de/wp-content/uploads/2025/09/Nikolaus.jpg
END:VEVENT
END:VCALENDAR