BEGIN:VCALENDAR
VERSION:2.0
PRODID:-//Rappelkiste Millingen e.V. - ECPv6.15.20//NONSGML v1.0//EN
CALSCALE:GREGORIAN
METHOD:PUBLISH
X-WR-CALNAME:Rappelkiste Millingen e.V.
X-ORIGINAL-URL:https://rappelkiste-millingen.de
X-WR-CALDESC:Veranstaltungen für Rappelkiste Millingen e.V.
REFRESH-INTERVAL;VALUE=DURATION:PT1H
X-Robots-Tag:noindex
X-PUBLISHED-TTL:PT1H
BEGIN:VTIMEZONE
TZID:Europe/Paris
BEGIN:DAYLIGHT
TZOFFSETFROM:+0100
TZOFFSETTO:+0200
TZNAME:CEST
DTSTART:20240331T010000
END:DAYLIGHT
BEGIN:STANDARD
TZOFFSETFROM:+0200
TZOFFSETTO:+0100
TZNAME:CET
DTSTART:20241027T010000
END:STANDARD
BEGIN:DAYLIGHT
TZOFFSETFROM:+0100
TZOFFSETTO:+0200
TZNAME:CEST
DTSTART:20250330T010000
END:DAYLIGHT
BEGIN:STANDARD
TZOFFSETFROM:+0200
TZOFFSETTO:+0100
TZNAME:CET
DTSTART:20251026T010000
END:STANDARD
BEGIN:DAYLIGHT
TZOFFSETFROM:+0100
TZOFFSETTO:+0200
TZNAME:CEST
DTSTART:20260329T010000
END:DAYLIGHT
BEGIN:STANDARD
TZOFFSETFROM:+0200
TZOFFSETTO:+0100
TZNAME:CET
DTSTART:20261025T010000
END:STANDARD
END:VTIMEZONE
BEGIN:VEVENT
DTSTART;TZID=Europe/Paris:20251004T160000
DTEND;TZID=Europe/Paris:20251005T180000
DTSTAMP:20260423T002546
CREATED:20250912T195351Z
LAST-MODIFIED:20250916T192058Z
UID:515-1759593600-1759687200@rappelkiste-millingen.de
SUMMARY:Kartoffelfest
DESCRIPTION:Der Heimatverein Millingen-Empel e.V. lädt zum traditionellen Kartoffelfest in der Dorfmitte von Millingen. Beginn ist am 04.10. um 16 Uhr. \n\n\n\nWie immer werden sie mit hausgemachten Kuchen\, vielfältigen kulinarischen Spezialitäten und einem Weinzelt bei geselligem Beisammensein verwöhnt. Auch für unsere Kleinsten ist wie immer gesorgt.
URL:https://rappelkiste-millingen.de/events/kartoffelfest/
LOCATION:Dorfmitte Rees-Millingen\, Quirinusplatz\, Rees-Millingen\, 46459\, Germany
ATTACH;FMTTYPE=image/png:https://rappelkiste-millingen.de/wp-content/uploads/2025/09/Kartoffelfest_small-1.png
END:VEVENT
END:VCALENDAR